BEGIN:VCALENDAR
VERSION:2.0
PRODID:GlueUp
CALSCALE:GREGORIAN
BEGIN:VTIMEZONE
TZID:UTC
BEGIN:STANDARD
DTSTART:19700101T000000
TZOFFSETFROM:+0000
TZOFFSETTO:+0000
TZNAME:UTC
END:STANDARD
END:VTIMEZONE
BEGIN:VEVENT
TZ:+00
ORGANIZER;CN=Барсукова Мария:MAILTO:dealer@asroad.org
UID:4964-1776796256@https://app.glueup.ru
DTSTAMP:20260421T183056Z
DTSTART:20250821T013000Z
DTEND:20250821T080000Z
SUMMARY:Круглый стол РОАД в Иркутске!
DESCRIPTION:"Круглый стол РОАД в Иркутске!" организовано "Ассоциация "Российские автомобильные дилеры""\n\nАвг 21 2025 (09:30 - 16:00)(GMT+8)\n\nДля получения дополнительной информации нажмите здесь: https://app.glueup.ru/my/events/4964
LOCATION:ул Карла Либкнехта, 85 - NUUR HOTEL Иркутск
BEGIN:VALARM
TRIGGER:-PT48H
REPEAT:4
DURATION:PT30M
ACTION:DISPLAY
END:VALARM
END:VEVENT
END:VCALENDAR