BEGIN:VCALENDAR
VERSION:2.0
PRODID:GlueUp
CALSCALE:GREGORIAN
BEGIN:VTIMEZONE
TZID:UTC
BEGIN:STANDARD
DTSTART:19700101T000000
TZOFFSETFROM:+0000
TZOFFSETTO:+0000
TZNAME:UTC
END:STANDARD
END:VTIMEZONE
BEGIN:VEVENT
TZ:+00
ORGANIZER;CN=Леванова Валерия:MAILTO:levanova@vcci.ru
UID:5227-1777126172@https://app.glueup.ru
DTSTAMP:20260425T140932Z
DTSTART:20260121T070000Z
DTEND:20260212T120000Z
SUMMARY:Налоговый форум
DESCRIPTION:"Налоговый форум" организовано "Вятская ТПП"\n\nЯнв 21, 2026 - 12 Фев, 2026(GMT+3)\n\nДля получения дополнительной информации нажмите здесь: https://app.glueup.ru/my/events/5227
LOCATION:Ленина ул., 101А - Киров - Кировская область - Российская Федерация
BEGIN:VALARM
TRIGGER:-PT48H
REPEAT:4
DURATION:PT30M
ACTION:DISPLAY
END:VALARM
END:VEVENT
END:VCALENDAR