BEGIN:VCALENDAR
VERSION:2.0
PRODID:GlueUp
CALSCALE:GREGORIAN
BEGIN:VTIMEZONE
TZID:UTC
BEGIN:STANDARD
DTSTART:19700101T000000
TZOFFSETFROM:+0000
TZOFFSETTO:+0000
TZNAME:UTC
END:STANDARD
END:VTIMEZONE
BEGIN:VEVENT
TZ:+00
ORGANIZER;CN=Калинина Ирина Геннадиевна:MAILTO:roomskalinina@gmail.com
UID:5404-1776673169@https://app.glueup.ru
DTSTAMP:20260420T081929Z
DTSTART:20260428T070000Z
DTEND:20260428T131000Z
SUMMARY:Научно-практическая конференция "Медицинская сестра в центре лечебного процесса: забота, безопасность, взаимодействие"
DESCRIPTION:"Научно-практическая конференция "Медицинская сестра в центре лечебного процесса: забота, безопасность, взаимодействие"" организовано "Региональная общественная организация медицинских сестер, г. Москва"\n\nАпр 28 2026 (10:00 - 16:10)(GMT+3)\n\nДля получения дополнительной информации нажмите здесь: https://app.glueup.ru/my/events/5404
LOCATION:Российский научный центр хирургии имени академика Б.В. Петровского - Абрикосовский переулок 2 Москва - Российская Федерация
BEGIN:VALARM
TRIGGER:-PT48H
REPEAT:4
DURATION:PT30M
ACTION:DISPLAY
END:VALARM
END:VEVENT
END:VCALENDAR