BEGIN:VCALENDAR
VERSION:2.0
PRODID:GlueUp
CALSCALE:GREGORIAN
BEGIN:VTIMEZONE
TZID:UTC
BEGIN:STANDARD
DTSTART:19700101T000000
TZOFFSETFROM:+0000
TZOFFSETTO:+0000
TZNAME:UTC
END:STANDARD
END:VTIMEZONE
BEGIN:VEVENT
TZ:+00
ORGANIZER;CN=Медиа группа Капитал-Инфо Журнал "Банковское дело":MAILTO:mar-nest@mail.ru
UID:2744-1776667071@https://app.glueup.ru
DTSTAMP:20260420T063751Z
DTSTART:20221221T140000Z
DTEND:20221221T193000Z
SUMMARY:НОВОГОДНИЙ ПРИЕМ ФИНАНСИСТОВ И ПРЕДПРИНИМАТЕЛЕЙ
DESCRIPTION:"НОВОГОДНИЙ ПРИЕМ ФИНАНСИСТОВ И ПРЕДПРИНИМАТЕЛЕЙ" организовано ""НИЦ КапиталИнфо""\n\nДек 21 2022 (17:00 - 22:30)(GMT+3)\n\nДля получения дополнительной информации нажмите здесь: https://app.glueup.ru/my/events/2744
LOCATION:Отель "Савой" Москва - улица Рождественка 3/6 - стр.1 Москва - Российская Федерация
BEGIN:VALARM
TRIGGER:-PT48H
REPEAT:4
DURATION:PT30M
ACTION:DISPLAY
END:VALARM
END:VEVENT
END:VCALENDAR