BEGIN:VCALENDAR
VERSION:2.0
PRODID:GlueUp
CALSCALE:GREGORIAN
BEGIN:VTIMEZONE
TZID:UTC
BEGIN:STANDARD
DTSTART:19700101T000000
TZOFFSETFROM:+0000
TZOFFSETTO:+0000
TZNAME:UTC
END:STANDARD
END:VTIMEZONE
BEGIN:VEVENT
TZ:+00
ORGANIZER;CN=Мелёхина Юлия Владимировна:MAILTO:julia@medsestre.ru
UID:4104-1776963389@https://app.glueup.ru
DTSTAMP:20260423T165629Z
DTSTART:20240701T020000Z
DTEND:20240702T093500Z
SUMMARY:НПК «Мультидисциплинарный подход в онкологии»
DESCRIPTION:"НПК «Мультидисциплинарный подход в онкологии»" организовано "Общероссийская общественная организация "Ассоциация медицинских сестер России""\n\nИюл 1 - 2, 2024(GMT+8)\n\nДля получения дополнительной информации нажмите здесь: https://app.glueup.ru/my/events/4104
LOCATION:2-я линия Васильевского острова, д. 61/30, Гостиница River Palace Hotel - Санкт-Петербург - Российская Федерация
BEGIN:VALARM
TRIGGER:-PT48H
REPEAT:4
DURATION:PT30M
ACTION:DISPLAY
END:VALARM
END:VEVENT
END:VCALENDAR