BEGIN:VCALENDAR
VERSION:2.0
PRODID:GlueUp
CALSCALE:GREGORIAN
BEGIN:VTIMEZONE
TZID:UTC
BEGIN:STANDARD
DTSTART:19700101T000000
TZOFFSETFROM:+0000
TZOFFSETTO:+0000
TZNAME:UTC
END:STANDARD
END:VTIMEZONE
BEGIN:VEVENT
TZ:+00
ORGANIZER;CN=Калинина Ирина Геннадиевна:MAILTO:roomskalinina@gmail.com
UID:5266-1776620535@https://app.glueup.ru
DTSTAMP:20260419T174215Z
DTSTART:20260225T080000Z
DTEND:20260225T120000Z
SUMMARY:НПК «Особо опасные инфекции (ООИ) как глобальная мировая проблема.  Особенности организации карантинных мероприятий в рамках биологической безопасности России»
DESCRIPTION:"НПК «Особо опасные инфекции (ООИ) как глобальная мировая проблема.  Особенности организации карантинных мероприятий в рамках биологической безопасности России»" организовано "Региональная общественная организация медицинских сестер, г. Москва"\n\nФев 25 2026 (11:00 - 15:00)(GMT+3)\n\nДля получения дополнительной информации нажмите здесь: https://app.glueup.ru/my/events/5266
LOCATION:ФГБУ «НМИЦ хирургии им. А.В. Вишневского» Минздрава России» - г. Москва - ул. Большая Серпуховская - дом 27 Москва - Российская Федерация
BEGIN:VALARM
TRIGGER:-PT48H
REPEAT:4
DURATION:PT30M
ACTION:DISPLAY
END:VALARM
END:VEVENT
END:VCALENDAR