BEGIN:VCALENDAR
VERSION:2.0
PRODID:GlueUp
CALSCALE:GREGORIAN
BEGIN:VTIMEZONE
TZID:UTC
BEGIN:STANDARD
DTSTART:19700101T000000
TZOFFSETFROM:+0000
TZOFFSETTO:+0000
TZNAME:UTC
END:STANDARD
END:VTIMEZONE
BEGIN:VEVENT
TZ:+00
ORGANIZER;CN=Андреева Светлана Александровна:MAILTO:blonda-sun@mail.ru
UID:4640-1776642689@https://app.glueup.ru
DTSTAMP:20260419T235129Z
DTSTART:20250204T070000Z
DTEND:20250205T122500Z
SUMMARY:О НАСТАВНИЧЕСТВЕ ПРОСТО
DESCRIPTION:"О НАСТАВНИЧЕСТВЕ ПРОСТО" организовано "РАМС-Астраханская область"\n\nФев 4 - 5, 2025(GMT+3)\n\nДля получения дополнительной информации нажмите здесь: https://app.glueup.ru/my/events/4640
LOCATION: - ул. Татищева - 2 - г. Астрахань - Российская Федерация
BEGIN:VALARM
TRIGGER:-PT48H
REPEAT:4
DURATION:PT30M
ACTION:DISPLAY
END:VALARM
END:VEVENT
END:VCALENDAR