BEGIN:VCALENDAR
VERSION:2.0
PRODID:GlueUp
CALSCALE:GREGORIAN
BEGIN:VTIMEZONE
TZID:UTC
BEGIN:STANDARD
DTSTART:19700101T000000
TZOFFSETFROM:+0000
TZOFFSETTO:+0000
TZNAME:UTC
END:STANDARD
END:VTIMEZONE
BEGIN:VEVENT
TZ:+00
ORGANIZER;CN=Барсукова Мария:MAILTO:assistant@asroad.org
UID:3337-1776779718@https://app.glueup.ru
DTSTAMP:20260421T135518Z
DTSTART:20230427T100000Z
DTEND:20230427T170000Z
SUMMARY:Общее Собрание РОАД
DESCRIPTION:"Общее Собрание РОАД" организовано "Ассоциация "Российские автомобильные дилеры""\n\nАпр 27 2023 (13:00 - 20:00)(GMT+3)\n\nДля получения дополнительной информации нажмите здесь: https://app.glueup.ru/my/events/3337
LOCATION:Sheraton palace hotel Moscow - г. Москва ,1-я Тверская-Ямская ул. - 19. Москва
BEGIN:VALARM
TRIGGER:-PT48H
REPEAT:4
DURATION:PT30M
ACTION:DISPLAY
END:VALARM
END:VEVENT
END:VCALENDAR