BEGIN:VCALENDAR
VERSION:2.0
PRODID:GlueUp
CALSCALE:GREGORIAN
BEGIN:VTIMEZONE
TZID:UTC
BEGIN:STANDARD
DTSTART:19700101T000000
TZOFFSETFROM:+0000
TZOFFSETTO:+0000
TZNAME:UTC
END:STANDARD
END:VTIMEZONE
BEGIN:VEVENT
TZ:+00
ORGANIZER;CN=Юрина Марина Леонидовна:MAILTO:marina@assocleasing.ru
UID:5217-1776936323@https://app.glueup.ru
DTSTAMP:20260423T092523Z
DTSTART:20251218T070000Z
DTEND:20251218T090000Z
SUMMARY:Отчетная конференция ОЛА "Итоги работы в 2025 году, планы на 2026 год"
DESCRIPTION:"Отчетная конференция ОЛА "Итоги работы в 2025 году, планы на 2026 год"" организовано "Объединенная Лизинговая Ассоциация"\n\nДек 18 2025 (10:00 - 12:00)(GMT+3)\n\nДля получения дополнительной информации нажмите здесь: https://app.glueup.ru/my/events/5217
LOCATION:
BEGIN:VALARM
TRIGGER:-PT48H
REPEAT:4
DURATION:PT30M
ACTION:DISPLAY
END:VALARM
END:VEVENT
END:VCALENDAR