BEGIN:VCALENDAR
VERSION:2.0
PRODID:GlueUp
CALSCALE:GREGORIAN
BEGIN:VTIMEZONE
TZID:UTC
BEGIN:STANDARD
DTSTART:19700101T000000
TZOFFSETFROM:+0000
TZOFFSETTO:+0000
TZNAME:UTC
END:STANDARD
END:VTIMEZONE
BEGIN:VEVENT
TZ:+00
ORGANIZER;CN=Столбова Анастасия:MAILTO:rusfranch@rusfranch.ru
UID:5358-1776696106@https://app.glueup.ru
DTSTAMP:20260420T144146Z
DTSTART:20260305T060000Z
DTEND:20261231T150000Z
SUMMARY:Презентации экспертов форума «Трансформация франчайзинга»
DESCRIPTION:"Презентации экспертов форума «Трансформация франчайзинга»" организовано "Российская ассоциация франчайзинга"\n\nМар 5, 2026 - 31 Дек, 2026(GMT+3)\n\nДля получения дополнительной информации нажмите здесь: https://app.glueup.ru/my/events/5358
LOCATION:
BEGIN:VALARM
TRIGGER:-PT48H
REPEAT:4
DURATION:PT30M
ACTION:DISPLAY
END:VALARM
END:VEVENT
END:VCALENDAR