BEGIN:VCALENDAR
VERSION:2.0
PRODID:GlueUp
CALSCALE:GREGORIAN
BEGIN:VTIMEZONE
TZID:UTC
BEGIN:STANDARD
DTSTART:19700101T000000
TZOFFSETFROM:+0000
TZOFFSETTO:+0000
TZNAME:UTC
END:STANDARD
END:VTIMEZONE
BEGIN:VEVENT
TZ:+00
ORGANIZER;CN=Юрина Марина Леонидовна:MAILTO:marina@assocleasing.ru
UID:5310-1776936018@https://app.glueup.ru
DTSTAMP:20260423T092018Z
DTSTART:20260312T080000Z
DTEND:20260312T090000Z
SUMMARY:Презентация проекта ОЛА по популяризации лизинговой отрасли "Галерея лучших лизинговых сделок в 2025 году"
DESCRIPTION:"Презентация проекта ОЛА по популяризации лизинговой отрасли "Галерея лучших лизинговых сделок в 2025 году"" организовано "Объединенная Лизинговая Ассоциация"\n\nМар 12 2026 (11:00 - 12:00)(GMT+3)\n\nДля получения дополнительной информации нажмите здесь: https://app.glueup.ru/my/events/5310
LOCATION:
BEGIN:VALARM
TRIGGER:-PT48H
REPEAT:4
DURATION:PT30M
ACTION:DISPLAY
END:VALARM
END:VEVENT
END:VCALENDAR