BEGIN:VCALENDAR
VERSION:2.0
PRODID:GlueUp
CALSCALE:GREGORIAN
BEGIN:VTIMEZONE
TZID:UTC
BEGIN:STANDARD
DTSTART:19700101T000000
TZOFFSETFROM:+0000
TZOFFSETTO:+0000
TZNAME:UTC
END:STANDARD
END:VTIMEZONE
BEGIN:VEVENT
TZ:+00
ORGANIZER;CN=Калинина Ирина Геннадиевна:MAILTO:roomskalinina@gmail.com
UID:5363-1776765587@https://app.glueup.ru
DTSTAMP:20260421T095947Z
DTSTART:20260326T140000Z
DTEND:20260326T153000Z
SUMMARY:Проект: Научные четверги.                                                                                                                                                                      Вебинар "Как читать научные статьи и находить в них главное"
DESCRIPTION:"Проект: Научные четверги.                                                                                                                                                                      Вебинар "Как читать научные статьи и находить в них главное"" организовано "Региональная общественная организация медицинских сестер, г. Москва"\n\nМар 26 2026 (17:00 - 18:30)(GMT+3)\n\nДля получения дополнительной информации нажмите здесь: https://app.glueup.ru/my/events/5363
LOCATION:ОНЛАЙН - Москва
BEGIN:VALARM
TRIGGER:-PT48H
REPEAT:4
DURATION:PT30M
ACTION:DISPLAY
END:VALARM
END:VEVENT
END:VCALENDAR