BEGIN:VCALENDAR
VERSION:2.0
PRODID:GlueUp
CALSCALE:GREGORIAN
BEGIN:VTIMEZONE
TZID:UTC
BEGIN:STANDARD
DTSTART:19700101T000000
TZOFFSETFROM:+0000
TZOFFSETTO:+0000
TZNAME:UTC
END:STANDARD
END:VTIMEZONE
BEGIN:VEVENT
TZ:+00
ORGANIZER;CN=Калинина Ирина Геннадиевна:MAILTO:roomskalinina@gmail.com
UID:5264-1776620395@https://app.glueup.ru
DTSTAMP:20260419T173955Z
DTSTART:20260129T140000Z
DTEND:20260129T153000Z
SUMMARY:Проект: Научные четверги.                                                                                                                                                                Вебинар "Сбор информации"
DESCRIPTION:"Проект: Научные четверги.                                                                                                                                                                Вебинар "Сбор информации"" организовано "Региональная общественная организация медицинских сестер, г. Москва"\n\nЯнв 29 2026 (17:00 - 18:30)(GMT+3)\n\nДля получения дополнительной информации нажмите здесь: https://app.glueup.ru/my/events/5264
LOCATION:ОНЛАЙН - Москва
BEGIN:VALARM
TRIGGER:-PT48H
REPEAT:4
DURATION:PT30M
ACTION:DISPLAY
END:VALARM
END:VEVENT
END:VCALENDAR