BEGIN:VCALENDAR
VERSION:2.0
PRODID:GlueUp
CALSCALE:GREGORIAN
BEGIN:VTIMEZONE
TZID:UTC
BEGIN:STANDARD
DTSTART:19700101T000000
TZOFFSETFROM:+0000
TZOFFSETTO:+0000
TZNAME:UTC
END:STANDARD
END:VTIMEZONE
BEGIN:VEVENT
TZ:+00
ORGANIZER;CN=Юрина Марина Леонидовна:MAILTO:marina@assocleasing.ru
UID:5239-1776936020@https://app.glueup.ru
DTSTAMP:20260423T092020Z
DTSTART:20260319T070000Z
DTEND:20260319T150000Z
SUMMARY:Риск-менеджмент, страхование, внутренний контроль, аудит, комплаенс, ПОДФТ
DESCRIPTION:"Риск-менеджмент, страхование, внутренний контроль, аудит, комплаенс, ПОДФТ" организовано "Объединенная Лизинговая Ассоциация"\n\nМар 19 2026 (10:00 - 18:00)(GMT+3)\n\nДля получения дополнительной информации нажмите здесь: https://app.glueup.ru/my/events/5239
LOCATION:Холидей Инн Москва Сокольники - Русаковская улица 24 Москва - Российская Федерация
BEGIN:VALARM
TRIGGER:-PT48H
REPEAT:4
DURATION:PT30M
ACTION:DISPLAY
END:VALARM
END:VEVENT
END:VCALENDAR