BEGIN:VCALENDAR
VERSION:2.0
PRODID:GlueUp
CALSCALE:GREGORIAN
BEGIN:VTIMEZONE
TZID:UTC
BEGIN:STANDARD
DTSTART:19700101T000000
TZOFFSETFROM:+0000
TZOFFSETTO:+0000
TZNAME:UTC
END:STANDARD
END:VTIMEZONE
BEGIN:VEVENT
TZ:+00
ORGANIZER;CN=Юн Жанна Валентиновна:MAILTO:pooms@mail.ru
UID:5451-1776846979@https://app.glueup.ru
DTSTAMP:20260422T083619Z
DTSTART:20260513T033000Z
DTEND:20260513T060000Z
SUMMARY:Семинар  «Актуальные вопросы ухода за хирургическими ранами»
DESCRIPTION:"Семинар  «Актуальные вопросы ухода за хирургическими ранами»" организовано "РАМС-Приморский край – ПООМС"\n\nМай 13 2026 (13:30 - 16:00)(GMT+10)\n\nДля получения дополнительной информации нажмите здесь: https://app.glueup.ru/my/events/5451
LOCATION:Медицинский Колледж - Советская улица 77 Уссурийск - Приморский край - Российская Федерация
BEGIN:VALARM
TRIGGER:-PT48H
REPEAT:4
DURATION:PT30M
ACTION:DISPLAY
END:VALARM
END:VEVENT
END:VCALENDAR