BEGIN:VCALENDAR
VERSION:2.0
PRODID:GlueUp
CALSCALE:GREGORIAN
BEGIN:VTIMEZONE
TZID:UTC
BEGIN:STANDARD
DTSTART:19700101T000000
TZOFFSETFROM:+0000
TZOFFSETTO:+0000
TZNAME:UTC
END:STANDARD
END:VTIMEZONE
BEGIN:VEVENT
TZ:+00
ORGANIZER;CN=Мелёхина Юлия Владимировна:MAILTO:julia@medsestre.ru
UID:2006-1776696984@https://app.glueup.ru
DTSTAMP:20260420T145624Z
DTSTART:20220429T110000Z
DTEND:20220429T142000Z
SUMMARY:Семинар  «Все о кардиологии на доврачебном этапе»
DESCRIPTION:"Семинар  «Все о кардиологии на доврачебном этапе»" организовано "Общероссийская общественная организация "Ассоциация медицинских сестер России""\n\nАпр 29 2022 (14:00 - 17:20)(GMT+3)\n\nДля получения дополнительной информации нажмите здесь: https://app.glueup.ru/my/events/2006
LOCATION:ОНЛАЙН - Webinar.ru Санкт-Петербург - Российская Федерация
BEGIN:VALARM
TRIGGER:-PT48H
REPEAT:4
DURATION:PT30M
ACTION:DISPLAY
END:VALARM
END:VEVENT
END:VCALENDAR