BEGIN:VCALENDAR
VERSION:2.0
PRODID:GlueUp
CALSCALE:GREGORIAN
BEGIN:VTIMEZONE
TZID:UTC
BEGIN:STANDARD
DTSTART:19700101T000000
TZOFFSETFROM:+0000
TZOFFSETTO:+0000
TZNAME:UTC
END:STANDARD
END:VTIMEZONE
BEGIN:VEVENT
TZ:+00
ORGANIZER;CN=Калинина Ирина Геннадиевна:MAILTO:roomskalinina@gmail.com
UID:3824-1776760854@https://app.glueup.ru
DTSTAMP:20260421T084054Z
DTSTART:20240208T100000Z
DTEND:20240208T161500Z
SUMMARY:Семинар «Комплексный подход к лечению ран различной этиологии»
DESCRIPTION:"Семинар «Комплексный подход к лечению ран различной этиологии»" организовано "Региональная общественная организация медицинских сестер, г. Москва"\n\nФев 8 2024 (13:00 - 19:15)(GMT+3)\n\nДля получения дополнительной информации нажмите здесь: https://app.glueup.ru/my/events/3824
LOCATION:4-ый Вешняковский пр-д, д.1, к.1 - Ресурсный центр НКО в ЮВАО - конференц-зал - 3 этаж Москва
BEGIN:VALARM
TRIGGER:-PT48H
REPEAT:4
DURATION:PT30M
ACTION:DISPLAY
END:VALARM
END:VEVENT
END:VCALENDAR