BEGIN:VCALENDAR
VERSION:2.0
PRODID:GlueUp
CALSCALE:GREGORIAN
BEGIN:VTIMEZONE
TZID:UTC
BEGIN:STANDARD
DTSTART:19700101T000000
TZOFFSETFROM:+0000
TZOFFSETTO:+0000
TZNAME:UTC
END:STANDARD
END:VTIMEZONE
BEGIN:VEVENT
TZ:+00
ORGANIZER;CN=Мелёхина Юлия Владимировна:MAILTO:julia@medsestre.ru
UID:1980-1776961533@https://app.glueup.ru
DTSTAMP:20260423T162533Z
DTSTART:20220318T120000Z
DTEND:20220318T140000Z
SUMMARY:Семинар «Профилактика глаукомы. Взаимодействие с пациентом»
DESCRIPTION:"Семинар «Профилактика глаукомы. Взаимодействие с пациентом»" организовано "Общероссийская общественная организация "Ассоциация медицинских сестер России""\n\nМар 18 2022 (15:00 - 17:00)(GMT+3)\n\nДля получения дополнительной информации нажмите здесь: https://app.glueup.ru/my/events/1980
LOCATION:ОНЛАЙН - Webinar.ru Санкт-Петербург - Российская Федерация
BEGIN:VALARM
TRIGGER:-PT48H
REPEAT:4
DURATION:PT30M
ACTION:DISPLAY
END:VALARM
END:VEVENT
END:VCALENDAR