BEGIN:VCALENDAR
VERSION:2.0
PRODID:GlueUp
CALSCALE:GREGORIAN
BEGIN:VTIMEZONE
TZID:UTC
BEGIN:STANDARD
DTSTART:19700101T000000
TZOFFSETFROM:+0000
TZOFFSETTO:+0000
TZNAME:UTC
END:STANDARD
END:VTIMEZONE
BEGIN:VEVENT
TZ:+00
ORGANIZER;CN=Мелёхина Юлия Владимировна:MAILTO:julia@medsestre.ru
UID:2347-1776696757@https://app.glueup.ru
DTSTAMP:20260420T145237Z
DTSTART:20220927T110000Z
DTEND:20220927T125000Z
SUMMARY:Семинар «Психические и психосоматические осложнения постковидного периода»
DESCRIPTION:"Семинар «Психические и психосоматические осложнения постковидного периода»" организовано "Общероссийская общественная организация "Ассоциация медицинских сестер России""\n\nСен 27 2022 (14:00 - 15:50)(GMT+3)\n\nДля получения дополнительной информации нажмите здесь: https://app.glueup.ru/my/events/2347
LOCATION:ОНЛАЙН - Webinar.ru Санкт-Петербург - Российская Федерация
BEGIN:VALARM
TRIGGER:-PT48H
REPEAT:4
DURATION:PT30M
ACTION:DISPLAY
END:VALARM
END:VEVENT
END:VCALENDAR