BEGIN:VCALENDAR
VERSION:2.0
PRODID:GlueUp
CALSCALE:GREGORIAN
BEGIN:VTIMEZONE
TZID:UTC
BEGIN:STANDARD
DTSTART:19700101T000000
TZOFFSETFROM:+0000
TZOFFSETTO:+0000
TZNAME:UTC
END:STANDARD
END:VTIMEZONE
BEGIN:VEVENT
TZ:+00
ORGANIZER;CN=Тихонюк Ирина Викторовна:MAILTO:tihonukirina22@gmail.com
UID:3117-1776847640@https://app.glueup.ru
DTSTAMP:20260422T084720Z
DTSTART:20230414T030000Z
DTEND:20230415T081500Z
SUMMARY:Семинар «Эффективные перинатальные практики»
DESCRIPTION:"Семинар «Эффективные перинатальные практики»" организовано "Томская региональная общественная организация «Профессиональная ассоциация медицинских сестер Томской области»"\n\nАпр 14 - 15, 2023(GMT+7)\n\nДля получения дополнительной информации нажмите здесь: https://app.glueup.ru/my/events/3117
LOCATION:ОГАУЗ «Областной перинатальный центр им. И.Д. Евтушенко» - Ив.Черных - 96/1 Томск - Томская - Российская Федерация
BEGIN:VALARM
TRIGGER:-PT48H
REPEAT:4
DURATION:PT30M
ACTION:DISPLAY
END:VALARM
END:VEVENT
END:VCALENDAR