BEGIN:VCALENDAR
VERSION:2.0
PRODID:GlueUp
CALSCALE:GREGORIAN
BEGIN:VTIMEZONE
TZID:UTC
BEGIN:STANDARD
DTSTART:19700101T000000
TZOFFSETFROM:+0000
TZOFFSETTO:+0000
TZNAME:UTC
END:STANDARD
END:VTIMEZONE
BEGIN:VEVENT
TZ:+00
ORGANIZER;CN=Жердецкий Андрей Сергеевич:MAILTO:smol.medsestra@gmail.com
UID:5405-1776997910@https://app.glueup.ru
DTSTAMP:20260424T023150Z
DTSTART:20260416T110000Z
DTEND:20260416T150000Z
SUMMARY:Совершенствование сестринской практики в условиях реформ здравоохранения и профессионального образования. Конструктивный диалог
DESCRIPTION:"Совершенствование сестринской практики в условиях реформ здравоохранения и профессионального образования. Конструктивный диалог" организовано "РАМС-Смоленская область"\n\nАпр 16 2026 (14:00 - 18:00)(GMT+3)\n\nДля получения дополнительной информации нажмите здесь: https://app.glueup.ru/my/events/5405
LOCATION:214000, Россия, г. Смоленск, ул. Академика Савицкого, д. 1, - ОГБУЗ "Смоленский областной онкологический клинический диспансер" Смоленск - Смоленская область - Российская Федерация
BEGIN:VALARM
TRIGGER:-PT48H
REPEAT:4
DURATION:PT30M
ACTION:DISPLAY
END:VALARM
END:VEVENT
END:VCALENDAR