BEGIN:VCALENDAR
VERSION:2.0
PRODID:GlueUp
CALSCALE:GREGORIAN
BEGIN:VTIMEZONE
TZID:UTC
BEGIN:STANDARD
DTSTART:19700101T000000
TZOFFSETFROM:+0000
TZOFFSETTO:+0000
TZNAME:UTC
END:STANDARD
END:VTIMEZONE
BEGIN:VEVENT
TZ:+00
ORGANIZER;CN=Куликова Наталья Валерьевна:MAILTO:knv@kmk44.ru
UID:5270-1776760883@https://app.glueup.ru
DTSTAMP:20260421T084123Z
DTSTART:20260227T070000Z
DTEND:20260227T140000Z
SUMMARY:Стратегические направления развития сестринского дела. Роль медперсонала в оказании качественной и безопасной медпомощи
DESCRIPTION:"Стратегические направления развития сестринского дела. Роль медперсонала в оказании качественной и безопасной медпомощи" организовано "РАМС-Костромская область"\n\nФев 27 2026 (10:00 - 17:00)(GMT+3)\n\nДля получения дополнительной информации нажмите здесь: https://app.glueup.ru/my/events/5270
LOCATION:Россия Кострома Юношеская ул.  1 дом - Отель "Волга" Кострома - Костромская область - Российская Федерация
BEGIN:VALARM
TRIGGER:-PT48H
REPEAT:4
DURATION:PT30M
ACTION:DISPLAY
END:VALARM
END:VEVENT
END:VCALENDAR