BEGIN:VCALENDAR
VERSION:2.0
PRODID:GlueUp
CALSCALE:GREGORIAN
BEGIN:VTIMEZONE
TZID:UTC
BEGIN:STANDARD
DTSTART:19700101T000000
TZOFFSETFROM:+0000
TZOFFSETTO:+0000
TZNAME:UTC
END:STANDARD
END:VTIMEZONE
BEGIN:VEVENT
TZ:+00
ORGANIZER;CN=Вострикова Наталья Владимировна:MAILTO:yfnfkmz75@bk.ru
UID:4909-1776917577@https://app.glueup.ru
DTSTAMP:20260423T041257Z
DTSTART:20250708T030000Z
DTEND:20250708T110000Z
SUMMARY:Тренинг «Профилактика профессионального выгорания через освоение эффективных методов управления коллективом». День 1
DESCRIPTION:"Тренинг «Профилактика профессионального выгорания через освоение эффективных методов управления коллективом». День 1" организовано "КРОО "Профессиональная ассоциация медицинских сестер Кузбасса""\n\nИюл 8 2025 (10:00 - 18:00)(GMT+7)\n\nДля получения дополнительной информации нажмите здесь: https://app.glueup.ru/my/events/4909
LOCATION:г. Кемерово, пр. Октябрьский, 22; Греческий зал - Кемерово - Кемеровская - Российская Федерация
BEGIN:VALARM
TRIGGER:-PT48H
REPEAT:4
DURATION:PT30M
ACTION:DISPLAY
END:VALARM
END:VEVENT
END:VCALENDAR