BEGIN:VCALENDAR
VERSION:2.0
PRODID:GlueUp
CALSCALE:GREGORIAN
BEGIN:VTIMEZONE
TZID:UTC
BEGIN:STANDARD
DTSTART:19700101T000000
TZOFFSETFROM:+0000
TZOFFSETTO:+0000
TZNAME:UTC
END:STANDARD
END:VTIMEZONE
BEGIN:VEVENT
TZ:+00
ORGANIZER;CN=Калинина Ирина Геннадиевна:MAILTO:roomskalinina@gmail.com
UID:5112-1776626150@https://app.glueup.ru
DTSTAMP:20260419T191550Z
DTSTART:20251027T070000Z
DTEND:20251027T150000Z
SUMMARY:Тренинг «Профилактика профессионального выгорания через освоение эффективных методов управления коллективом». День 1
DESCRIPTION:"Тренинг «Профилактика профессионального выгорания через освоение эффективных методов управления коллективом». День 1" организовано "Региональная общественная организация медицинских сестер, г. Москва"\n\nОкт 27 2025 (10:00 - 18:00)(GMT+3)\n\nДля получения дополнительной информации нажмите здесь: https://app.glueup.ru/my/events/5112
LOCATION:ул. Лосиноостровская, д. 2 - ФГБУ ДПО ВУНМЦ Минздрава России.
BEGIN:VALARM
TRIGGER:-PT48H
REPEAT:4
DURATION:PT30M
ACTION:DISPLAY
END:VALARM
END:VEVENT
END:VCALENDAR