BEGIN:VCALENDAR
VERSION:2.0
PRODID:GlueUp
CALSCALE:GREGORIAN
BEGIN:VTIMEZONE
TZID:UTC
BEGIN:STANDARD
DTSTART:19700101T000000
TZOFFSETFROM:+0000
TZOFFSETTO:+0000
TZNAME:UTC
END:STANDARD
END:VTIMEZONE
BEGIN:VEVENT
TZ:+00
ORGANIZER;CN=Вострикова Наталья Владимировна:MAILTO:yfnfkmz75@bk.ru
UID:4910-1776917484@https://app.glueup.ru
DTSTAMP:20260423T041124Z
DTSTART:20250709T030000Z
DTEND:20250709T110000Z
SUMMARY:Тренинг «Профилактика профессионального выгорания через освоение эффективных методов управления коллективом». День 2
DESCRIPTION:"Тренинг «Профилактика профессионального выгорания через освоение эффективных методов управления коллективом». День 2" организовано "КРОО "Профессиональная ассоциация медицинских сестер Кузбасса""\n\nИюл 9 2025 (10:00 - 18:00)(GMT+7)\n\nДля получения дополнительной информации нажмите здесь: https://app.glueup.ru/my/events/4910
LOCATION:г.Кемерово, пр.Ленина, д.107, Актовый зал, Кемеровская городская клиническая поликлиника № 5 имени Л. И. Темерхановой - Кемерово - Российская Федерация
BEGIN:VALARM
TRIGGER:-PT48H
REPEAT:4
DURATION:PT30M
ACTION:DISPLAY
END:VALARM
END:VEVENT
END:VCALENDAR